BEGIN:VCALENDAR
VERSION:2.0
PRODID:-//Szlávik-Kovács Enikő - ECPv6.15.20//NONSGML v1.0//EN
CALSCALE:GREGORIAN
METHOD:PUBLISH
X-WR-CALNAME:Szlávik-Kovács Enikő
X-ORIGINAL-URL:https://enikokovacs.com
X-WR-CALDESC:Események Szlávik-Kovács Enikő
REFRESH-INTERVAL;VALUE=DURATION:PT1H
X-Robots-Tag:noindex
X-PUBLISHED-TTL:PT1H
BEGIN:VTIMEZONE
TZID:UTC
BEGIN:STANDARD
TZOFFSETFROM:+0000
TZOFFSETTO:+0000
TZNAME:UTC
DTSTART:20250101T000000
END:STANDARD
END:VTIMEZONE
BEGIN:VEVENT
DTSTART;TZID=UTC:20260321T100000
DTEND;TZID=UTC:20260321T160000
DTSTAMP:20260419T155909
CREATED:20260314T213713Z
LAST-MODIFIED:20260314T220926Z
UID:1511-1774087200-1774108800@enikokovacs.com
SUMMARY:„Ébredő Nőiség” – Női személyiségfejlesztő önismereti nap
DESCRIPTION:„Tavaszi lelki megújulás és újjászületés” \nMárcius 21-re\, a tavaszi napéjegyenlőség napjára tervezek egy önismereti alkotói napot. Szívügyem a női lélek finom rétegeivel való munka\, ezért egy olyan napot álmodtam meg\, ahol 7 nőt várok szeretettel egy közös önismereti utazásra.A tavasz gyönyörű szimbóluma a megújulásnak és az újjászületésnek\, így ezen az alkalmon is ezzel dolgozunk majd. Különféle kreatív eszközökkel\, művészet- és meseterápiás módszerekkel\, valamint relaxációs gyakorlatokkal készülök.A célom az\, hogy ezen a napon a fókusz teljesen önmagadon legyen: ki tudj szakadni a hétköznapokból\, új perspektívákat kapj\, és egy megtartó\, biztonságos térben tudj töltődni\, kikapcsolódni.\nÉs mielőtt elindulna benned a jól ismert minta\, hogy „én nem tudok alkotni\, még egy pálcikaembert sem”\, szeretnélek megnyugtatni: semmilyen művészeti előképzettségre nincs szükség. A módszer\, amivel dolgozom\, arra épít\, hogy mindenkiben él egy belső alkotó művész\, akit elő tudunk hívni. Ha van benned egy kis kíváncsiság\, az már bőven elég.\nEzen a napon alkotni fogunk\, relaxálni\, és természetesen az elkészült alkotásokat meg is beszéljük. Dolgozunk porpasztellel\, agyaggal és montázs technikával. Minden elkészült művet haza lehet vinni. \nTerveim és nagy vágyam\, hogy havonta tudjak egy-egy hasonló napot tartani más témákban\, ahol a női lélek finom rétegeit bontogatjuk tovább.\nAz első alkalom fókusza: lelki megújulás és újjászületés.\nHa megérintett a program\, várlak szeretettel. \nGyere úgy\, ahogy vagy – az pont elég. 💫\n✨ A foglalkozások célja:\n✅feszültségoldás\n✅önismeret-fejlesztés\n✅szociális és érzelmi készségek támogatása\n✅önmagunk elfogadása\n✅elakadások oldása\n✅kreativitás fejlesztése \n✨ Amire számíthatsz:\n✅ ítélkezésmentes\, elfogadó légkör\n✅ relaxációs és mindfulness technikák\n✅ mese- és művészetterápiás eszközök\n✅ zeneterápiás elemek\n✅ intuíciót és belső erőforrásokat ébresztő önismereti gyakorlatok \n✨ Neked szól ez a program\, ha…\n✅ elveszve érzed magad\, és szeretnél önmagadra találni\n✅ szeretnéd erősíteni az önbizalmadat és az önismeretedet\n✅ kételkedsz magadban\, bizonytalan vagy\, merre tovább\n✅ párkapcsolati\, családi vagy munkahelyi nehézségeid vannak\n✅ énidőre vágysz\n✅ szeretnéd felismerni és elfogadni a saját szükségleteidet és korlátaidat\n✅ gondot okoz a határhúzás\n✅szeretnél ránézni a mintáidra\, sémáidra\, transzgenerációs örökségedre\, és szeretnél dolgozni ezeken\n✅ szeretnél egy elfogadó\, ítélkezésmentes közegben töltődni \n📍 Helyszín: Balatonfüred\, Köztársaság u. 5/C\n🕤 Időpont: 2026. március 21. 10:00–16:00 (30 perces ebédszünettel)\n👥 Létszám: A program minimum 4 fő jelentkezése esetén indul. Maximum 7 főt várok\, hogy biztonságos\, intim térben tudjunk dolgozni. \n💰 Részvételi díj: 25.000 Ft / fő (átutalással)\nKedvezményes díj: 20.000 Ft\, ha március 16‑ig jelentkezel.\n💛 Lemondási feltételek: amennyiben betegség vagy bármilyen más ok miatt nem tudnál csatlakozni\, a befizetett díjat egy másik programomon\, vagy egyéni folyamatban teljes egészében felhasználhatod. \n👤 Programot vezeti:\nKovács Enikő – komplex művészeti terapeuta (művészet- és meseterapeuta)\, kiképző művészetterapeuta\, mentálhigiénés szakember\, coach\, okl. rajzvizsgálati szakértő
URL:https://enikokovacs.com/esemeny/ebredo-noiseg-noi-szemelyisegfejleszto-onismereti-nap/
LOCATION:Köztársaság u. 5/C\, Köztársaság u. 5/C\, Balatonfüred\, Veszprém\, 8230\, Hungary
ATTACH;FMTTYPE=image/webp:https://enikokovacs.com/wp-content/uploads/2026/03/634930069_1497588752368940_4611005038569207293_n.webp
END:VEVENT
END:VCALENDAR